BEGIN:VCALENDAR
VERSION:2.0
CALSCALE:GREGORIAN
PRODID:-//WordPress//RSVPMaker//EN
METHOD:REQUEST
BEGIN:VEVENT
DTSTAMP:20260423T194439Z
UID:F0467E856F9EE5F05A1815FCA47B7787@rsvpmaker.com
SEQUENCE:0
STATUS:CONFIRMED
DTSTART:20250222T223000Z
DTEND:20250223T030000Z
LOCATION:See\: https\://www.thehabitathouseconcerts.com/rsvpmaker/360-
 degrees-2025/
SUMMARY:360 Degrees 2025
DESCRIPTION:Event info\: https\://www.thehabitathouseconcerts.com/rsvp
 maker/360-degrees-2025/
END:VEVENT
END:VCALENDAR