BEGIN:VCALENDAR
VERSION:2.0
CALSCALE:GREGORIAN
PRODID:-//WordPress//RSVPMaker//EN
METHOD:REQUEST
BEGIN:VEVENT
DTSTAMP:20260423T210746Z
UID:15A50C8BA6A0002A2FA7E5D8C0A40BD9@rsvpmaker.com
SEQUENCE:0
STATUS:CONFIRMED
DTSTART:20231209T225000Z
DTEND:20231210T030000Z
LOCATION:See\: https\://www.thehabitathouseconcerts.com/rsvpmaker/a-ki
 lted-christmas-with-eireanns-call/
SUMMARY:A Kilted Christmas with Eireann's Call
DESCRIPTION:Event info\: https\://www.thehabitathouseconcerts.com/rsvp
 maker/a-kilted-christmas-with-eireanns-call/
END:VEVENT
END:VCALENDAR