BEGIN:VCALENDAR
VERSION:2.0
CALSCALE:GREGORIAN
PRODID:-//WordPress//RSVPMaker//EN
METHOD:REQUEST
BEGIN:VEVENT
DTSTAMP:20260423T223005Z
UID:9715D04413F296EAF3C30C47CEC3DAA6@rsvpmaker.com
SEQUENCE:0
STATUS:CONFIRMED
DTSTART:20230429T213000Z
DTEND:20230429T223000Z
LOCATION:See\: https\://www.thehabitathouseconcerts.com/rsvpmaker/arie
 lla-at-the-habitat-2024/
SUMMARY:Ariella at The Habitat
DESCRIPTION:Event info\: https\://www.thehabitathouseconcerts.com/rsvp
 maker/ariella-at-the-habitat-2024/
END:VEVENT
END:VCALENDAR