BEGIN:VCALENDAR
VERSION:2.0
CALSCALE:GREGORIAN
PRODID:-//WordPress//RSVPMaker//EN
METHOD:REQUEST
BEGIN:VEVENT
DTSTAMP:20260423T170308Z
UID:751F6B6B02BF39C41025F3BCFD9948AD@rsvpmaker.com
SEQUENCE:0
STATUS:CONFIRMED
DTSTART:20251004T213000Z
DTEND:20251005T020000Z
LOCATION:See\: https\://www.thehabitathouseconcerts.com/rsvpmaker/arie
 lla-nicholass-2025/
SUMMARY:Ariella & Nicholass
DESCRIPTION:Event info\: https\://www.thehabitathouseconcerts.com/rsvp
 maker/ariella-nicholass-2025/
END:VEVENT
END:VCALENDAR