BEGIN:VCALENDAR
VERSION:2.0
CALSCALE:GREGORIAN
PRODID:-//WordPress//RSVPMaker//EN
METHOD:REQUEST
BEGIN:VEVENT
DTSTAMP:20260423T211021Z
UID:A6E38981ECDD65FE9DCDFCD8D1F58F05@rsvpmaker.com
SEQUENCE:0
STATUS:CONFIRMED
DTSTART:20240113T223000Z
DTEND:20240113T233000Z
LOCATION:See\: https\://www.thehabitathouseconcerts.com/rsvpmaker/arie
 lla-returns-to-the-habitat-2/
SUMMARY:Ariella returns to The Habitat - SOLD OUT!
DESCRIPTION:Event info\: https\://www.thehabitathouseconcerts.com/rsvp
 maker/ariella-returns-to-the-habitat-2/
END:VEVENT
END:VCALENDAR