BEGIN:VCALENDAR
VERSION:2.0
CALSCALE:GREGORIAN
PRODID:-//WordPress//RSVPMaker//EN
METHOD:REQUEST
BEGIN:VEVENT
DTSTAMP:20260423T132932Z
UID:CF866614B6B18CDA13FE699A3A65661B@rsvpmaker.com
SEQUENCE:0
STATUS:CONFIRMED
DTSTART:20260320T213000Z
DTEND:20260320T223000Z
LOCATION:See\: https\://www.thehabitathouseconcerts.com/rsvpmaker/arti
 st-relief-fund-fundraiser-2026-with-scott-kirby/
SUMMARY:Artist Relief Fund Fundraiser 2026 with Scott Kirby - FRIDAY s
 how!
DESCRIPTION:Event info\: https\://www.thehabitathouseconcerts.com/rsvp
 maker/artist-relief-fund-fundraiser-2026-with-scott-kirby/
END:VEVENT
END:VCALENDAR