BEGIN:VCALENDAR
VERSION:2.0
CALSCALE:GREGORIAN
PRODID:-//WordPress//RSVPMaker//EN
METHOD:REQUEST
BEGIN:VEVENT
DTSTAMP:20260423T211231Z
UID:ACC21473C4525B922286130FFBFE00B5@rsvpmaker.com
SEQUENCE:0
STATUS:CONFIRMED
DTSTART:20240224T223000Z
DTEND:20240224T233000Z
LOCATION:See\: https\://www.thehabitathouseconcerts.com/rsvpmaker/boom
 er-blake-and-danny-rosado-at-the-habitat/
SUMMARY:Boomer Blake and Danny Rosado at The Habitat
DESCRIPTION:Event info\: https\://www.thehabitathouseconcerts.com/rsvp
 maker/boomer-blake-and-danny-rosado-at-the-habitat/
END:VEVENT
END:VCALENDAR