BEGIN:VCALENDAR
VERSION:2.0
CALSCALE:GREGORIAN
PRODID:-//WordPress//RSVPMaker//EN
METHOD:REQUEST
BEGIN:VEVENT
DTSTAMP:20260423T194449Z
UID:25CAEF3A545A1FFF2FF4055484F0E758@rsvpmaker.com
SEQUENCE:0
STATUS:CONFIRMED
DTSTART:20250125T223000Z
DTEND:20250126T030000Z
LOCATION:See\: https\://www.thehabitathouseconcerts.com/rsvpmaker/bren
 t-burns-2025/
SUMMARY:Brent Burns 2025
DESCRIPTION:Event info\: https\://www.thehabitathouseconcerts.com/rsvp
 maker/brent-burns-2025/
END:VEVENT
END:VCALENDAR