BEGIN:VCALENDAR
VERSION:2.0
CALSCALE:GREGORIAN
PRODID:-//WordPress//RSVPMaker//EN
METHOD:REQUEST
BEGIN:VEVENT
DTSTAMP:20260424T011250Z
UID:587B7B833034299FDD5F4B10E7DC9FCA@rsvpmaker.com
SEQUENCE:0
STATUS:CONFIRMED
DTSTART:20220205T223000Z
DTEND:20220205T233000Z
LOCATION:See\: https\://www.thehabitathouseconcerts.com/rsvpmaker/bren
 t-burns-at-the-habitat/
SUMMARY:Brent Burns at The Habitat
DESCRIPTION:Event info\: https\://www.thehabitathouseconcerts.com/rsvp
 maker/brent-burns-at-the-habitat/
END:VEVENT
END:VCALENDAR