BEGIN:VCALENDAR
VERSION:2.0
CALSCALE:GREGORIAN
PRODID:-//WordPress//RSVPMaker//EN
METHOD:REQUEST
BEGIN:VEVENT
DTSTAMP:20260423T145500Z
UID:4FD5AADB85A00525415E3733CB96ED68@rsvpmaker.com
SEQUENCE:0
STATUS:CONFIRMED
DTSTART:20260207T223000Z
DTEND:20260207T233000Z
LOCATION:See\: https\://www.thehabitathouseconcerts.com/rsvpmaker/brew
 er-erdman-mayer-2/
SUMMARY:Brewer Erdman Mayer
DESCRIPTION:Event info\: https\://www.thehabitathouseconcerts.com/rsvp
 maker/brewer-erdman-mayer-2/
END:VEVENT
END:VCALENDAR