BEGIN:VCALENDAR
VERSION:2.0
CALSCALE:GREGORIAN
PRODID:-//WordPress//RSVPMaker//EN
METHOD:REQUEST
BEGIN:VEVENT
DTSTAMP:20260423T165915Z
UID:1C336B8080F82BCC2CD2499B4C57261D@rsvpmaker.com
SEQUENCE:0
STATUS:CONFIRMED
DTSTART:20250208T223000Z
DTEND:20250209T030000Z
LOCATION:See\: https\://www.thehabitathouseconcerts.com/rsvpmaker/brew
 er-erdman-mayer/
SUMMARY:Brewer/Erdman/Mayer
DESCRIPTION:Event info\: https\://www.thehabitathouseconcerts.com/rsvp
 maker/brewer-erdman-mayer/
END:VEVENT
END:VCALENDAR