BEGIN:VCALENDAR
VERSION:2.0
CALSCALE:GREGORIAN
PRODID:-//WordPress//RSVPMaker//EN
METHOD:REQUEST
BEGIN:VEVENT
DTSTAMP:20260424T023545Z
UID:FB4C835FEB0A65CC39739320D7A51C02@rsvpmaker.com
SEQUENCE:0
STATUS:CONFIRMED
DTSTART:20220319T213000Z
DTEND:20220319T223000Z
LOCATION:See\: https\://www.thehabitathouseconcerts.com/rsvpmaker/carr
 ie-welling-at-the-habitat/
SUMMARY:Carrie Welling at The Habitat
DESCRIPTION:Event info\: https\://www.thehabitathouseconcerts.com/rsvp
 maker/carrie-welling-at-the-habitat/
END:VEVENT
END:VCALENDAR