BEGIN:VCALENDAR
VERSION:2.0
CALSCALE:GREGORIAN
PRODID:-//WordPress//RSVPMaker//EN
METHOD:REQUEST
BEGIN:VEVENT
DTSTAMP:20260423T223225Z
UID:024677EFB8E4AEE2EAEEF17B54695BBE@rsvpmaker.com
SEQUENCE:0
STATUS:CONFIRMED
DTSTART:20230204T220000Z
DTEND:20230204T230000Z
LOCATION:See\: https\://www.thehabitathouseconcerts.com/rsvpmaker/caut
 ionary-tales-album-release-dean-johanesen/
SUMMARY:Cautionary Tales - Album Release - Dean Johanesen
DESCRIPTION:Event info\: https\://www.thehabitathouseconcerts.com/rsvp
 maker/cautionary-tales-album-release-dean-johanesen/
END:VEVENT
END:VCALENDAR