BEGIN:VCALENDAR
VERSION:2.0
CALSCALE:GREGORIAN
PRODID:-//WordPress//RSVPMaker//EN
METHOD:REQUEST
BEGIN:VEVENT
DTSTAMP:20260423T194908Z
UID:9A83EABFB7FA303A2D85DBC6F37483E5@rsvpmaker.com
SEQUENCE:0
STATUS:CONFIRMED
DTSTART:20240525T213000Z
DTEND:20240526T020000Z
LOCATION:See\: https\://www.thehabitathouseconcerts.com/rsvpmaker/char
 lie-imes-2024-at-the-habitat/
SUMMARY:Charlie Imes 2024 at The Habitat
DESCRIPTION:Event info\: https\://www.thehabitathouseconcerts.com/rsvp
 maker/charlie-imes-2024-at-the-habitat/
END:VEVENT
END:VCALENDAR