BEGIN:VCALENDAR
VERSION:2.0
CALSCALE:GREGORIAN
PRODID:-//WordPress//RSVPMaker//EN
METHOD:REQUEST
BEGIN:VEVENT
DTSTAMP:20260424T040552Z
UID:99064BA6631E279D4A74622DF99657D6@rsvpmaker.com
SEQUENCE:0
STATUS:CONFIRMED
DTSTART:20210529T213000Z
DTEND:20210529T223000Z
LOCATION:See\: https\://www.thehabitathouseconcerts.com/rsvpmaker/char
 lie-imes-at-the-habitat/
SUMMARY:A Most Special Day - Charlie Imes Birthday
DESCRIPTION:Event info\: https\://www.thehabitathouseconcerts.com/rsvp
 maker/charlie-imes-at-the-habitat/
END:VEVENT
END:VCALENDAR