BEGIN:VCALENDAR
VERSION:2.0
CALSCALE:GREGORIAN
PRODID:-//WordPress//RSVPMaker//EN
METHOD:REQUEST
BEGIN:VEVENT
DTSTAMP:20260423T222923Z
UID:0DBCF39D413231953D442F2F17F80CD5@rsvpmaker.com
SEQUENCE:0
STATUS:CONFIRMED
DTSTART:20230527T213000Z
DTEND:20230527T223000Z
LOCATION:See\: https\://www.thehabitathouseconcerts.com/rsvpmaker/chri
 stie-lenee-at-the-habitat/
SUMMARY:Christie Lenée at The Habitat
DESCRIPTION:Event info\: https\://www.thehabitathouseconcerts.com/rsvp
 maker/christie-lenee-at-the-habitat/
END:VEVENT
END:VCALENDAR