BEGIN:VCALENDAR
VERSION:2.0
CALSCALE:GREGORIAN
PRODID:-//WordPress//RSVPMaker//EN
METHOD:REQUEST
BEGIN:VEVENT
DTSTAMP:20260423T132809Z
UID:7F489F642A0DDB10272B5C31057F0663@rsvpmaker.com
SEQUENCE:0
STATUS:CONFIRMED
DTSTART:20260516T213000Z
DTEND:20260516T223000Z
LOCATION:See\: https\://www.thehabitathouseconcerts.com/rsvpmaker/chri
 stie-lenee-returns-to-the-habitat-2026/
SUMMARY:Christie Lenee Returns to The Habitat 2026
DESCRIPTION:Event info\: https\://www.thehabitathouseconcerts.com/rsvp
 maker/christie-lenee-returns-to-the-habitat-2026/
END:VEVENT
END:VCALENDAR