BEGIN:VCALENDAR
VERSION:2.0
CALSCALE:GREGORIAN
PRODID:-//WordPress//RSVPMaker//EN
METHOD:REQUEST
BEGIN:VEVENT
DTSTAMP:20260423T170334Z
UID:24759597B99D21EF84E6C86C29E56AAB@rsvpmaker.com
SEQUENCE:0
STATUS:CONFIRMED
DTSTART:20251206T223000Z
DTEND:20251207T030000Z
LOCATION:See\: https\://www.thehabitathouseconcerts.com/rsvpmaker/chri
 stmas-time-john-mcdonald/
SUMMARY:Christmas Time! John McDonald
DESCRIPTION:Event info\: https\://www.thehabitathouseconcerts.com/rsvp
 maker/christmas-time-john-mcdonald/
END:VEVENT
END:VCALENDAR