BEGIN:VCALENDAR
VERSION:2.0
CALSCALE:GREGORIAN
PRODID:-//WordPress//RSVPMaker//EN
METHOD:REQUEST
BEGIN:VEVENT
DTSTAMP:20260424T011035Z
UID:C6E81542B125C36346D9167691B8BD09@rsvpmaker.com
SEQUENCE:0
STATUS:CONFIRMED
DTSTART:20220403T050000Z
DTEND:20220403T060000Z
LOCATION:See\: https\://www.thehabitathouseconcerts.com/rsvpmaker/chri
 stopher-dale-at-the-habitat/
SUMMARY:Christopher Dale at The Habitat
DESCRIPTION:Event info\: https\://www.thehabitathouseconcerts.com/rsvp
 maker/christopher-dale-at-the-habitat/
END:VEVENT
END:VCALENDAR