BEGIN:VCALENDAR
VERSION:2.0
CALSCALE:GREGORIAN
PRODID:-//WordPress//RSVPMaker//EN
METHOD:REQUEST
BEGIN:VEVENT
DTSTAMP:20260423T182942Z
UID:95F2B84DE5660DDF45C8A34933A2E66F@rsvpmaker.com
SEQUENCE:0
STATUS:CONFIRMED
DTSTART:20250329T213000Z
DTEND:20250330T020000Z
LOCATION:See\: https\://www.thehabitathouseconcerts.com/rsvpmaker/chrs
 itopher-dale-2025/
SUMMARY:Chrsitopher Dale 2025
DESCRIPTION:Event info\: https\://www.thehabitathouseconcerts.com/rsvp
 maker/chrsitopher-dale-2025/
END:VEVENT
END:VCALENDAR