BEGIN:VCALENDAR
VERSION:2.0
CALSCALE:GREGORIAN
PRODID:-//WordPress//RSVPMaker//EN
METHOD:REQUEST
BEGIN:VEVENT
DTSTAMP:20260423T235804Z
UID:23E582AD8087F2C03A5A31C125123F9A@rsvpmaker.com
SEQUENCE:0
STATUS:CONFIRMED
DTSTART:20220424T170000Z
DTEND:20220424T180000Z
LOCATION:See\: https\://www.thehabitathouseconcerts.com/rsvpmaker/cock
 rell-and-beck-at-the-habitat/
SUMMARY:Cockrell and Beck at The Habitat
DESCRIPTION:Event info\: https\://www.thehabitathouseconcerts.com/rsvp
 maker/cockrell-and-beck-at-the-habitat/
END:VEVENT
END:VCALENDAR