BEGIN:VCALENDAR
VERSION:2.0
CALSCALE:GREGORIAN
PRODID:-//WordPress//RSVPMaker//EN
METHOD:REQUEST
BEGIN:VEVENT
DTSTAMP:20260423T112141Z
UID:B58F7D184743106A8A66028B7A28937C@rsvpmaker.com
SEQUENCE:0
STATUS:CONFIRMED
DTSTART:20240817T213000Z
DTEND:20240817T223000Z
LOCATION:See\: https\://www.thehabitathouseconcerts.com/rsvpmaker/dave
 -freeman-at-the-habitat-2024/
SUMMARY:Dave Freeman at The Habitat 2024
DESCRIPTION:Event info\: https\://www.thehabitathouseconcerts.com/rsvp
 maker/dave-freeman-at-the-habitat-2024/
END:VEVENT
END:VCALENDAR