BEGIN:VCALENDAR
VERSION:2.0
CALSCALE:GREGORIAN
PRODID:-//WordPress//RSVPMaker//EN
METHOD:REQUEST
BEGIN:VEVENT
DTSTAMP:20260423T235804Z
UID:8965F76632D7672E7D3CF29C87ECAA0C@rsvpmaker.com
SEQUENCE:0
STATUS:CONFIRMED
DTSTART:20220625T213000Z
DTEND:20220625T223000Z
LOCATION:See\: https\://www.thehabitathouseconcerts.com/rsvpmaker/dean
 -johanesen-and-the-24-hour-men/
SUMMARY:Dean Johanesen and the 24 Hour Men
DESCRIPTION:Event info\: https\://www.thehabitathouseconcerts.com/rsvp
 maker/dean-johanesen-and-the-24-hour-men/
END:VEVENT
END:VCALENDAR