BEGIN:VCALENDAR
VERSION:2.0
CALSCALE:GREGORIAN
PRODID:-//WordPress//RSVPMaker//EN
METHOD:REQUEST
BEGIN:VEVENT
DTSTAMP:20260423T223123Z
UID:A6B8DEB7798E7532ADE2A8934477D3CE@rsvpmaker.com
SEQUENCE:0
STATUS:CONFIRMED
DTSTART:20230128T223000Z
DTEND:20230128T233000Z
LOCATION:See\: https\://www.thehabitathouseconcerts.com/rsvpmaker/donn
 y-brewer-at-the-habitat-2023/
SUMMARY:Donny Brewer at The Habitat 2023
DESCRIPTION:Event info\: https\://www.thehabitathouseconcerts.com/rsvp
 maker/donny-brewer-at-the-habitat-2023/
END:VEVENT
END:VCALENDAR