BEGIN:VCALENDAR
VERSION:2.0
CALSCALE:GREGORIAN
PRODID:-//WordPress//RSVPMaker//EN
METHOD:REQUEST
BEGIN:VEVENT
DTSTAMP:20260424T040305Z
UID:1D6408264D31D453D556C60FE7D0459E@rsvpmaker.com
SEQUENCE:0
STATUS:CONFIRMED
DTSTART:20210327T213000Z
DTEND:20210327T223000Z
LOCATION:See\: https\://www.thehabitathouseconcerts.com/rsvpmaker/donn
 y-brewer-at-the-habitat/
SUMMARY:Donny Brewer at The Habitat
DESCRIPTION:Event info\: https\://www.thehabitathouseconcerts.com/rsvp
 maker/donny-brewer-at-the-habitat/
END:VEVENT
END:VCALENDAR