BEGIN:VCALENDAR
VERSION:2.0
CALSCALE:GREGORIAN
PRODID:-//WordPress//RSVPMaker//EN
METHOD:REQUEST
BEGIN:VEVENT
DTSTAMP:20260424T023018Z
UID:C7502C55F8DB540625B59D9A42638520@rsvpmaker.com
SEQUENCE:0
STATUS:CONFIRMED
DTSTART:20210306T223000Z
DTEND:20210306T233000Z
LOCATION:See\: https\://www.thehabitathouseconcerts.com/rsvpmaker/drop
 -dead-dangerous/
SUMMARY:Drop Dead Dangerous
DESCRIPTION:Event info\: https\://www.thehabitathouseconcerts.com/rsvp
 maker/drop-dead-dangerous/
END:VEVENT
END:VCALENDAR