BEGIN:VCALENDAR
VERSION:2.0
CALSCALE:GREGORIAN
PRODID:-//WordPress//RSVPMaker//EN
METHOD:REQUEST
BEGIN:VEVENT
DTSTAMP:20260423T235836Z
UID:5CB22B6ADA9B860235E5E20975F23DE3@rsvpmaker.com
SEQUENCE:0
STATUS:CONFIRMED
DTSTART:20221008T213000Z
DTEND:20221008T223000Z
LOCATION:See\: https\://www.thehabitathouseconcerts.com/rsvpmaker/eric
 -erdman-and-brendan-mayer-at-the-habitat/
SUMMARY:Eric Erdman and Brendan Mayer at The Habitat
DESCRIPTION:Event info\: https\://www.thehabitathouseconcerts.com/rsvp
 maker/eric-erdman-and-brendan-mayer-at-the-habitat/
END:VEVENT
END:VCALENDAR