BEGIN:VCALENDAR
VERSION:2.0
CALSCALE:GREGORIAN
PRODID:-//WordPress//RSVPMaker//EN
METHOD:REQUEST
BEGIN:VEVENT
DTSTAMP:20260423T223108Z
UID:7CDACE91C487558E27CE54DF7CDB299C@rsvpmaker.com
SEQUENCE:0
STATUS:CONFIRMED
DTSTART:20231007T213000Z
DTEND:20231007T223000Z
LOCATION:See\: https\://www.thehabitathouseconcerts.com/rsvpmaker/eric
 -erdman-and-brendan-mayer-return-to-the-habitat/
SUMMARY:Eric Erdman and Brendan Mayer return to The Habitat
DESCRIPTION:Event info\: https\://www.thehabitathouseconcerts.com/rsvp
 maker/eric-erdman-and-brendan-mayer-return-to-the-habitat/
END:VEVENT
END:VCALENDAR