BEGIN:VCALENDAR
VERSION:2.0
CALSCALE:GREGORIAN
PRODID:-//WordPress//RSVPMaker//EN
METHOD:REQUEST
BEGIN:VEVENT
DTSTAMP:20260424T023047Z
UID:923E325E16617477E457F6A468A2D6DF@rsvpmaker.com
SEQUENCE:0
STATUS:CONFIRMED
DTSTART:20210814T213000Z
DTEND:20210814T223000Z
LOCATION:See\: https\://www.thehabitathouseconcerts.com/rsvpmaker/eric
 -erdman-at-the-habitat/
SUMMARY:Eric Erdman at The Habitat
DESCRIPTION:Event info\: https\://www.thehabitathouseconcerts.com/rsvp
 maker/eric-erdman-at-the-habitat/
END:VEVENT
END:VCALENDAR