BEGIN:VCALENDAR
VERSION:2.0
CALSCALE:GREGORIAN
PRODID:-//WordPress//RSVPMaker//EN
METHOD:REQUEST
BEGIN:VEVENT
DTSTAMP:20260423T165557Z
UID:CAAA29EAB72B231B0AF62FBDFF89BFCE@rsvpmaker.com
SEQUENCE:0
STATUS:CONFIRMED
DTSTART:20251101T213000Z
DTEND:20251101T223000Z
LOCATION:See\: https\://www.thehabitathouseconcerts.com/rsvpmaker/eric
 a-sunshine-lee-at-the-habitat-2025/
SUMMARY:Erica Sunshine Lee at The Habitat - 2025
DESCRIPTION:Event info\: https\://www.thehabitathouseconcerts.com/rsvp
 maker/erica-sunshine-lee-at-the-habitat-2025/
END:VEVENT
END:VCALENDAR