BEGIN:VCALENDAR
VERSION:2.0
CALSCALE:GREGORIAN
PRODID:-//WordPress//RSVPMaker//EN
METHOD:REQUEST
BEGIN:VEVENT
DTSTAMP:20260424T023332Z
UID:9CE3C52FC54362E22053399D3181C638@rsvpmaker.com
SEQUENCE:0
STATUS:CONFIRMED
DTSTART:20210501T213000Z
DTEND:20210501T223000Z
LOCATION:See\: https\://www.thehabitathouseconcerts.com/rsvpmaker/eric
 a-sunshine-lee-at-the-habitat/
SUMMARY:Erica Sunshine Lee at The Habitat
DESCRIPTION:Event info\: https\://www.thehabitathouseconcerts.com/rsvp
 maker/erica-sunshine-lee-at-the-habitat/
END:VEVENT
END:VCALENDAR