BEGIN:VCALENDAR
VERSION:2.0
CALSCALE:GREGORIAN
PRODID:-//WordPress//RSVPMaker//EN
METHOD:REQUEST
BEGIN:VEVENT
DTSTAMP:20260424T023327Z
UID:CC384C68AD503482FB24E6D1E3B512AE@rsvpmaker.com
SEQUENCE:0
STATUS:CONFIRMED
DTSTART:20210710T213000Z
DTEND:20210710T223000Z
LOCATION:See\: https\://www.thehabitathouseconcerts.com/rsvpmaker/erie
 anns-call-at-the-habitat/
SUMMARY:Erieann's Call at The Habitat
DESCRIPTION:Event info\: https\://www.thehabitathouseconcerts.com/rsvp
 maker/erieanns-call-at-the-habitat/
END:VEVENT
END:VCALENDAR