BEGIN:VCALENDAR
VERSION:2.0
CALSCALE:GREGORIAN
PRODID:-//WordPress//RSVPMaker//EN
METHOD:REQUEST
BEGIN:VEVENT
DTSTAMP:20260423T211031Z
UID:90365351CCC7437A1309DC64E4DB32A3@rsvpmaker.com
SEQUENCE:0
STATUS:CONFIRMED
DTSTART:20240914T213000Z
DTEND:20240914T223000Z
LOCATION:See\: https\://www.thehabitathouseconcerts.com/rsvpmaker/floa
 ting-collective-at-the-habitat-2024/
SUMMARY:Floating Collective at The Habitat 2024 - Postponed....
DESCRIPTION:Event info\: https\://www.thehabitathouseconcerts.com/rsvp
 maker/floating-collective-at-the-habitat-2024/
END:VEVENT
END:VCALENDAR