BEGIN:VCALENDAR
VERSION:2.0
CALSCALE:GREGORIAN
PRODID:-//WordPress//RSVPMaker//EN
METHOD:REQUEST
BEGIN:VEVENT
DTSTAMP:20260423T210914Z
UID:C5EF831F5D34FAAFC22A23A602CF6E40@rsvpmaker.com
SEQUENCE:0
STATUS:CONFIRMED
DTSTART:20240303T223000Z
DTEND:20240303T233000Z
LOCATION:See\: https\://www.thehabitathouseconcerts.com/rsvpmaker/grac
 e-morrison-a-listening-room-network-show/
SUMMARY:Grace Morrison - a Listening Room Network Show
DESCRIPTION:Event info\: https\://www.thehabitathouseconcerts.com/rsvp
 maker/grace-morrison-a-listening-room-network-show/
END:VEVENT
END:VCALENDAR