BEGIN:VCALENDAR
VERSION:2.0
CALSCALE:GREGORIAN
PRODID:-//WordPress//RSVPMaker//EN
METHOD:REQUEST
BEGIN:VEVENT
DTSTAMP:20260423T133257Z
UID:35A12C43227F217207D4E06FFEFE39D3@rsvpmaker.com
SEQUENCE:0
STATUS:CONFIRMED
DTSTART:20260314T213000Z
DTEND:20260314T223000Z
LOCATION:See\: https\://www.thehabitathouseconcerts.com/rsvpmaker/heat
 her-vidal-2026/
SUMMARY:Heather Vidal 2026
DESCRIPTION:Event info\: https\://www.thehabitathouseconcerts.com/rsvp
 maker/heather-vidal-2026/
END:VEVENT
END:VCALENDAR