BEGIN:VCALENDAR
VERSION:2.0
CALSCALE:GREGORIAN
PRODID:-//WordPress//RSVPMaker//EN
METHOD:REQUEST
BEGIN:VEVENT
DTSTAMP:20260424T023146Z
UID:BF5A1D9043100645B2067FA70D7A1EA6@rsvpmaker.com
SEQUENCE:0
STATUS:CONFIRMED
DTSTART:20210911T213000Z
DTEND:20210911T223000Z
LOCATION:See\: https\://www.thehabitathouseconcerts.com/rsvpmaker/heat
 her-vidal-at-the-habitat/
SUMMARY:Heather Vidal at The Habitat
DESCRIPTION:Event info\: https\://www.thehabitathouseconcerts.com/rsvp
 maker/heather-vidal-at-the-habitat/
END:VEVENT
END:VCALENDAR