BEGIN:VCALENDAR
VERSION:2.0
CALSCALE:GREGORIAN
PRODID:-//WordPress//RSVPMaker//EN
METHOD:REQUEST
BEGIN:VEVENT
DTSTAMP:20260423T211200Z
UID:5CD7EDBE7A1A668FDC63C138002CC43A@rsvpmaker.com
SEQUENCE:0
STATUS:CONFIRMED
DTSTART:20231230T223000Z
DTEND:20231230T233000Z
LOCATION:See\: https\://www.thehabitathouseconcerts.com/rsvpmaker/jame
 s-t-slater-returns-to-the-habitat/
SUMMARY:James T Slater Returns to The Habitat
DESCRIPTION:Event info\: https\://www.thehabitathouseconcerts.com/rsvp
 maker/james-t-slater-returns-to-the-habitat/
END:VEVENT
END:VCALENDAR