BEGIN:VCALENDAR
VERSION:2.0
CALSCALE:GREGORIAN
PRODID:-//WordPress//RSVPMaker//EN
METHOD:REQUEST
BEGIN:VEVENT
DTSTAMP:20260423T165916Z
UID:524F141E189D2A00968C3D48CADD4159@rsvpmaker.com
SEQUENCE:0
STATUS:CONFIRMED
DTSTART:20251115T223000Z
DTEND:20251116T030000Z
LOCATION:See\: https\://www.thehabitathouseconcerts.com/rsvpmaker/jess
 e-rice-2025/
SUMMARY:Jesse Rice 2025 - SOLD OUT
DESCRIPTION:Event info\: https\://www.thehabitathouseconcerts.com/rsvp
 maker/jesse-rice-2025/
END:VEVENT
END:VCALENDAR