BEGIN:VCALENDAR
VERSION:2.0
CALSCALE:GREGORIAN
PRODID:-//WordPress//RSVPMaker//EN
METHOD:REQUEST
BEGIN:VEVENT
DTSTAMP:20260423T195000Z
UID:69DD2EFF9B6A421D5CE262B093BDAB23@rsvpmaker.com
SEQUENCE:0
STATUS:CONFIRMED
DTSTART:20240406T213000Z
DTEND:20240407T020000Z
LOCATION:See\: https\://www.thehabitathouseconcerts.com/rsvpmaker/jess
 e-rice-at-the-habitat-saturday-april-6th/
SUMMARY:Jesse Rice at The Habitat - Saturday April 6th
DESCRIPTION:Event info\: https\://www.thehabitathouseconcerts.com/rsvp
 maker/jesse-rice-at-the-habitat-saturday-april-6th/
END:VEVENT
END:VCALENDAR