BEGIN:VCALENDAR
VERSION:2.0
CALSCALE:GREGORIAN
PRODID:-//WordPress//RSVPMaker//EN
METHOD:REQUEST
BEGIN:VEVENT
DTSTAMP:20260423T194744Z
UID:D994E3728BA5E28DEFB88A3289CD7EE8@rsvpmaker.com
SEQUENCE:0
STATUS:CONFIRMED
DTSTART:20240713T213000Z
DTEND:20240714T020000Z
LOCATION:See\: https\://www.thehabitathouseconcerts.com/rsvpmaker/joe-
 downing-at-the-habitat-2024/
SUMMARY:Joe Downing at The Habitat 2024
DESCRIPTION:Event info\: https\://www.thehabitathouseconcerts.com/rsvp
 maker/joe-downing-at-the-habitat-2024/
END:VEVENT
END:VCALENDAR