BEGIN:VCALENDAR
VERSION:2.0
CALSCALE:GREGORIAN
PRODID:-//WordPress//RSVPMaker//EN
METHOD:REQUEST
BEGIN:VEVENT
DTSTAMP:20260424T023159Z
UID:B91F4F4D36FA98A94AC5584AF95594A0@rsvpmaker.com
SEQUENCE:0
STATUS:CONFIRMED
DTSTART:20210724T213000Z
DTEND:20210724T223000Z
LOCATION:See\: https\://www.thehabitathouseconcerts.com/rsvpmaker/joe-
 downing-at-the-habitat/
SUMMARY:Joe Downing at The Habitat
DESCRIPTION:Event info\: https\://www.thehabitathouseconcerts.com/rsvp
 maker/joe-downing-at-the-habitat/
END:VEVENT
END:VCALENDAR