BEGIN:VCALENDAR
VERSION:2.0
CALSCALE:GREGORIAN
PRODID:-//WordPress//RSVPMaker//EN
METHOD:REQUEST
BEGIN:VEVENT
DTSTAMP:20260423T222842Z
UID:5FC34ED307AAC159A30D81181C99847E@rsvpmaker.com
SEQUENCE:0
STATUS:CONFIRMED
DTSTART:20230729T213000Z
DTEND:20230729T223000Z
LOCATION:See\: https\://www.thehabitathouseconcerts.com/rsvpmaker/john
 -friday-at-the-habitat/
SUMMARY:John Friday at The Habitat
DESCRIPTION:Event info\: https\://www.thehabitathouseconcerts.com/rsvp
 maker/john-friday-at-the-habitat/
END:VEVENT
END:VCALENDAR