BEGIN:VCALENDAR
VERSION:2.0
CALSCALE:GREGORIAN
PRODID:-//WordPress//RSVPMaker//EN
METHOD:REQUEST
BEGIN:VEVENT
DTSTAMP:20260423T165737Z
UID:7F3FCFED9109F27A4B9E4ABD169D6E43@rsvpmaker.com
SEQUENCE:0
STATUS:CONFIRMED
DTSTART:20250412T213000Z
DTEND:20250413T020000Z
LOCATION:See\: https\://www.thehabitathouseconcerts.com/rsvpmaker/john
 -frinzi-2025/
SUMMARY:John Frinzi 2025
DESCRIPTION:Event info\: https\://www.thehabitathouseconcerts.com/rsvp
 maker/john-frinzi-2025/
END:VEVENT
END:VCALENDAR