BEGIN:VCALENDAR
VERSION:2.0
CALSCALE:GREGORIAN
PRODID:-//WordPress//RSVPMaker//EN
METHOD:REQUEST
BEGIN:VEVENT
DTSTAMP:20260424T023204Z
UID:4F3D7D38D24B740C95DA2B03DC3A2333@rsvpmaker.com
SEQUENCE:0
STATUS:CONFIRMED
DTSTART:20211009T213000Z
DTEND:20211009T223000Z
LOCATION:See\: https\://www.thehabitathouseconcerts.com/rsvpmaker/john
 -frinzi-at-the-habitat/
SUMMARY:John Frinzi at The Habitat
DESCRIPTION:Event info\: https\://www.thehabitathouseconcerts.com/rsvp
 maker/john-frinzi-at-the-habitat/
END:VEVENT
END:VCALENDAR