BEGIN:VCALENDAR
VERSION:2.0
CALSCALE:GREGORIAN
PRODID:-//WordPress//RSVPMaker//EN
METHOD:REQUEST
BEGIN:VEVENT
DTSTAMP:20260423T210914Z
UID:1F74A54F39B3123AD272CA0A06E7463F@rsvpmaker.com
SEQUENCE:0
STATUS:CONFIRMED
DTSTART:20230923T213000Z
DTEND:20230923T223000Z
LOCATION:See\: https\://www.thehabitathouseconcerts.com/rsvpmaker/john
 -frinzi-returns-to-the-habitat/
SUMMARY:John Frinzi Returns to The Habitat
DESCRIPTION:Event info\: https\://www.thehabitathouseconcerts.com/rsvp
 maker/john-frinzi-returns-to-the-habitat/
END:VEVENT
END:VCALENDAR