BEGIN:VCALENDAR
VERSION:2.0
CALSCALE:GREGORIAN
PRODID:-//WordPress//RSVPMaker//EN
METHOD:REQUEST
BEGIN:VEVENT
DTSTAMP:20260423T165914Z
UID:58F1E2BFC0C0C182F1AFDAB7CAE02402@rsvpmaker.com
SEQUENCE:0
STATUS:CONFIRMED
DTSTART:20250906T213000Z
DTEND:20250906T223000Z
LOCATION:See\: https\://www.thehabitathouseconcerts.com/rsvpmaker/john
 ny-cashs-eldest-grandson-thomas-gabriel/
SUMMARY:POSTPONED!!!  Johnny Cash's Eldest Grandson - Thomas Gabriel
DESCRIPTION:Event info\: https\://www.thehabitathouseconcerts.com/rsvp
 maker/johnny-cashs-eldest-grandson-thomas-gabriel/
END:VEVENT
END:VCALENDAR