BEGIN:VCALENDAR
VERSION:2.0
CALSCALE:GREGORIAN
PRODID:-//WordPress//RSVPMaker//EN
METHOD:REQUEST
BEGIN:VEVENT
DTSTAMP:20260423T222842Z
UID:658BBBDEF9415BA5E2FF857F1146BA6E@rsvpmaker.com
SEQUENCE:0
STATUS:CONFIRMED
DTSTART:20230624T213000Z
DTEND:20230625T020000Z
LOCATION:See\: https\://www.thehabitathouseconcerts.com/rsvpmaker/jona
 s-lorence-monallo-at-the-habitat/
SUMMARY:Jonas Lorence & Monallo at The Habitat
DESCRIPTION:Event info\: https\://www.thehabitathouseconcerts.com/rsvp
 maker/jonas-lorence-monallo-at-the-habitat/
END:VEVENT
END:VCALENDAR