BEGIN:VCALENDAR
VERSION:2.0
CALSCALE:GREGORIAN
PRODID:-//WordPress//RSVPMaker//EN
METHOD:REQUEST
BEGIN:VEVENT
DTSTAMP:20260423T183309Z
UID:C6102B3727B2A7D8B1BB6981147081EF@rsvpmaker.com
SEQUENCE:0
STATUS:CONFIRMED
DTSTART:20250220T230000Z
DTEND:20250221T030000Z
LOCATION:See\: https\://www.thehabitathouseconcerts.com/rsvpmaker/juli
 an-taylor-lrf-artist-show/
SUMMARY:Julian Taylor, LRF Artist Show!
DESCRIPTION:Event info\: https\://www.thehabitathouseconcerts.com/rsvp
 maker/julian-taylor-lrf-artist-show/
END:VEVENT
END:VCALENDAR