BEGIN:VCALENDAR
VERSION:2.0
CALSCALE:GREGORIAN
PRODID:-//WordPress//RSVPMaker//EN
METHOD:REQUEST
BEGIN:VEVENT
DTSTAMP:20260423T194703Z
UID:E564618B1A0F9A0E5B043F63D43FC065@rsvpmaker.com
SEQUENCE:0
STATUS:CONFIRMED
DTSTART:20240504T213000Z
DTEND:20240505T020000Z
LOCATION:See\: https\://www.thehabitathouseconcerts.com/rsvpmaker/keit
 h-sykes-at-the-habitat/
SUMMARY:Keith Sykes at The Habitat
DESCRIPTION:Event info\: https\://www.thehabitathouseconcerts.com/rsvp
 maker/keith-sykes-at-the-habitat/
END:VEVENT
END:VCALENDAR