BEGIN:VCALENDAR
VERSION:2.0
CALSCALE:GREGORIAN
PRODID:-//WordPress//RSVPMaker//EN
METHOD:REQUEST
BEGIN:VEVENT
DTSTAMP:20260423T132133Z
UID:1F33D7CF6693DC6DCC7029B97CC29487@rsvpmaker.com
SEQUENCE:0
STATUS:CONFIRMED
DTSTART:20260411T213000Z
DTEND:20260411T223000Z
LOCATION:See\: https\://www.thehabitathouseconcerts.com/rsvpmaker/keit
 h-sykes-with-sunny-jim-2026/
SUMMARY:Keith Sykes with Sunny Jim 2026
DESCRIPTION:Event info\: https\://www.thehabitathouseconcerts.com/rsvp
 maker/keith-sykes-with-sunny-jim-2026/
END:VEVENT
END:VCALENDAR